BEGIN:VCALENDAR
VERSION:2.0
PRODID:-//eventon.com NONSGML v1.0//EN
CALSCALE:GREGORIAN
METHOD:PUBLISH
BEGIN:VEVENT
UID:69eb9c45d7d43
DTSTAMP:20260424T163725Z
DTSTART:20251101
DTEND:20251102
LOCATION:
SUMMARY:Nelson Burger Month
DESCRIPTION:Nelson Star’s Burger Month is a big hit every year\,  where t
 he likes of 40 restaurants from Nelson and surrounding areas compete for yo
 ur vote of Best Tasting\,  Best Presentation\,  and Most Unique burger. Eac
 h restaurant designs a special burger that’s only sold for the month of N
 ovember\,  and then[..]\nhttps://thekootenaycurrent.com/events2/nelson-burg
 er-month/
URL:https://thekootenaycurrent.com/events2/nelson-burger-month/
END:VEVENT
END:VCALENDAR